BEGIN:VCALENDAR
VERSION:2.0
X-WR-CALNAME:Sablefish Stock Assessments and 2023 Quotas
PRODID:-//www.sitkaradio.com/Sitka Radio Center Stations ICS//EN
CALSCALE:GREGORIAN
METHOD:PUBLISH
BEGIN:VEVENT
DTSTART;VALUE=DATE:20221129T170000
DTEND;VALUE=DATE:20221129T180000
SEQUENCE:1
TRANSP:OPAQUE
SUMMARY:Sablefish Stock Assessments and 2023 Quotas
DESCRIPTION: Join Alaska Longline Fishermen's Association for a virtual meeting to discuss 2023 sablefish stock assessments and quotas.
URL;VALUE=https://www.sitkaradio.com/calendar/ics/168558/2022-11-29/
UID:https://www.sitkaradio.com/calendar/ics/168558/2022-11-29/
DTSTAMP:20221116T092744
LAST-UPDATED:20221116T092744
END:VEVENT
END:VCALENDAR