BEGIN:VCALENDAR
VERSION:2.0
X-WR-CALNAME:BIKE WORKSHOP
PRODID:-//www.sitkaradio.com/Sitka Radio Center Stations ICS//EN
CALSCALE:GREGORIAN
METHOD:PUBLISH
BEGIN:VEVENT
DTSTART;VALUE=DATE:20210505T120000
DTEND;VALUE=DATE:20210505T130000
SEQUENCE:1
TRANSP:OPAQUE
SUMMARY:BIKE WORKSHOP
DESCRIPTION: A Free back-to-biking workshop will be held from 5:30-7pm this Wednesday at the Salty Spoke Bike co-op, located behind the Hames Center.  They will review the basics of safe bicycling in Sitka, including a group ride, participation gifts and a chance to work on maintaining bikes.  For info call Doug at 966-8674
LOCATION: None\; 1\; Sitka 
URL;VALUE=https://www.sitkaradio.com/calendar/ics/130014/2021-05-05/
UID:https://www.sitkaradio.com/calendar/ics/130014/2021-05-05/
DTSTAMP:20210504T063816
LAST-UPDATED:20210504T063816
END:VEVENT
END:VCALENDAR