BEGIN:VCALENDAR
VERSION:2.0
X-WR-CALNAME:Medvejie Solstice Run
PRODID:-//www.sitkaradio.com/Sitka Radio Center Stations ICS//EN
CALSCALE:GREGORIAN
METHOD:PUBLISH
BEGIN:VEVENT
DTSTART;VALUE=DATE:20210619T090000
DTEND;VALUE=DATE:20210619T150000
SEQUENCE:1
TRANSP:OPAQUE
SUMMARY:Medvejie Solstice Run
DESCRIPTION: The 15th running of this fundraiser for Sitka High track and cross-country teams begins at 9 am on Saturday, June 19 at Herring Cove.  
Three distance events will be run: a half-marathon, 10K and 5K.
Pre-registration is highly recommended and is available on-line now:  runsignup.com – search for “Medvejie Solstice Run”
Race day registration begins at 8:00 am at Herring Cove and will cost $10 more, so sign up now!  The first 75 registrants will receive one of our coveted athletic t-shirts. 
Please visit the Medvejie Solstice Run page on Facebook for more information, or email: runsitkahigh@gmail.com.
LOCATION: Herring Cove\; Sawmill Creek Road\; Sitka 
URL;VALUE=https://www.sitkaradio.com/calendar/ics/129407/2021-06-19/
UID:https://www.sitkaradio.com/calendar/ics/129407/2021-06-19/
DTSTAMP:20210419T133313
LAST-UPDATED:20210419T133313
END:VEVENT
END:VCALENDAR