BEGIN:VCALENDAR
VERSION:2.0
X-WR-CALNAME:Grab and Go Crafts
PRODID:-//www.sitkaradio.com/Sitka Radio Center Stations ICS//EN
CALSCALE:GREGORIAN
METHOD:PUBLISH
BEGIN:VEVENT
DTSTART;VALUE=DATE:20210126T120000
DTEND;VALUE=DATE:20210126T130000
SEQUENCE:1
TRANSP:OPAQUE
SUMMARY:Grab and Go Crafts
DESCRIPTION: Sitka Public Library will offer weekly grab-and-go bag craft program the entire month of January.  New bags will be available every Saturday and participants can pick them up anytime during the week.  Craft projects are best for ages 2-5.  Registration is required and space is limited.  Call 747-4020 to register.
LOCATION: Sitka Public Library\; 320 Harbor Drive\; Sitka 99835
URL;VALUE=https://www.sitkaradio.com/calendar/ics/126280/2021-01-26/
UID:https://www.sitkaradio.com/calendar/ics/126280/2021-01-26/
DTSTAMP:20201229T090409
LAST-UPDATED:20201229T090409
END:VEVENT
END:VCALENDAR