BEGIN:VCALENDAR
VERSION:2.0
X-WR-CALNAME:SUICIDE ALERTNESS
PRODID:-//www.sitkaradio.com/Sitka Radio Center Stations ICS//EN
CALSCALE:GREGORIAN
METHOD:PUBLISH
BEGIN:VEVENT
DTSTART;VALUE=DATE:20201124T120000
DTEND;VALUE=DATE:20201124T130000
SEQUENCE:1
TRANSP:OPAQUE
SUMMARY:SUICIDE ALERTNESS
DESCRIPTION: SafeTALK, suicide alertness for everyone by Livingworks is being offered to Sitkans starting Wed. Dec 2nd, 3rd or 5th at Centennial Hall.  The four hour in-person, suicide prevention workshop helps create a safer community by teaching participants how to recognize warning signs, engage in safe conversations and direct individuals to needed resources.  email Missy at mmongiovi@scpsak.org.
LOCATION: CENTENNIAL HALL\; 330 Harbor Dr,\; Sitka 99835
URL;VALUE=https://www.sitkaradio.com/calendar/ics/125165/2020-11-24/
UID:https://www.sitkaradio.com/calendar/ics/125165/2020-11-24/
DTSTAMP:20201116T094626
LAST-UPDATED:20201116T094626
END:VEVENT
END:VCALENDAR