BEGIN:VCALENDAR
VERSION:2.0
X-WR-CALNAME:Mariner’s First Aid & CPR Class
PRODID:-//www.sitkaradio.com/Sitka Radio Center Stations ICS//EN
CALSCALE:GREGORIAN
METHOD:PUBLISH
BEGIN:VEVENT
DTSTART;VALUE=DATE:20201117T120000
DTEND;VALUE=DATE:20201117T130000
SEQUENCE:1
TRANSP:OPAQUE
SUMMARY:Mariner’s First Aid & CPR Class
DESCRIPTION: AMSEA has cancelled the  First Aid & CPR/AED class this Saturday.  call 747-3287 for more info.
LOCATION: NSRAA\; 1308 Sawmill Creek Rd\; Sitka 99835
URL;VALUE=https://www.sitkaradio.com/calendar/ics/125162/2020-11-17/
UID:https://www.sitkaradio.com/calendar/ics/125162/2020-11-17/
DTSTAMP:20201116T094006
LAST-UPDATED:20201116T094006
END:VEVENT
END:VCALENDAR