BEGIN:VCALENDAR
VERSION:2.0
X-WR-CALNAME:Sportsman’s Association Annual Turkey Shoot
PRODID:-//www.sitkaradio.com/Sitka Radio Center Stations ICS//EN
CALSCALE:GREGORIAN
METHOD:PUBLISH
BEGIN:VEVENT
DTSTART;VALUE=DATE:20201120T120000
DTEND;VALUE=DATE:20201120T130000
SEQUENCE:1
TRANSP:OPAQUE
SUMMARY:Sportsman’s Association Annual Turkey Shoot
DESCRIPTION: 
Sitka Sportsman’s Association is please to announce that the annual Turkey Shoot will be held on Saturday 9 AM – 3 PM, at 5211 HPR.  This is a long time Sitka Sportsman’s Association annual event for both the outdoor shotgun trap & skeet plus the indoor 22 pistol and rifle shoot. Come on out and enjoy the fun, no experience is necessary.
Anyone hitting a particular colored clay target during a normal round of trap or skeet, or winning one of the pistol events will win their choice of a turkey or a coupon for a free round of trap or skeet. There is a limit of one turkey or coupon per shooter. Your cost per round of trap or skeet is $20 and $5 per pistol event, and both fees include ammunition. Loaner firearms will also be available for use at no charge.
Plus there will be $5 BBQed hamburgers for lunch.
For more info call April at 738-4559.
LOCATION: Sitka Sportsmens Association\; 5211 HPR\; SITKA 99835
URL;VALUE=https://www.sitkaradio.com/calendar/ics/125161/2020-11-20/
UID:https://www.sitkaradio.com/calendar/ics/125161/2020-11-20/
DTSTAMP:20201116T093822
LAST-UPDATED:20201116T093822
END:VEVENT
END:VCALENDAR